BEGIN:VCALENDAR
VERSION:2.0
PRODID:-//ChamberMaster//Event Calendar 2.0//EN
METHOD:PUBLISH
X-PUBLISHED-TTL:P3D
REFRESH-INTERVAL:P3D
CALSCALE:GREGORIAN
BEGIN:VEVENT
DTSTART:20161209T180000Z
DTEND:20161209T190000Z
X-MICROSOFT-CDO-ALLDAYEVENT:FALSE
SUMMARY:Friday Luncheon
DESCRIPTION:Friday Luncheon is fun!
X-ALT-DESC;FMTTYPE=text/html:Friday Luncheon is fun!
LOCATION:Doc Holidays Restraunt
UID:e.1542.1332
SEQUENCE:3
DTSTAMP:20260422T074845Z
URL:http://test.chambermaster.com/events/details/friday-luncheon-12-09-2016-1332
END:VEVENT

END:VCALENDAR
